BEGIN:VCALENDAR
VERSION:2.0
PRODID:-//Congressional Black Caucus Foundation - ECPv6.15.13//NONSGML v1.0//EN
CALSCALE:GREGORIAN
METHOD:PUBLISH
X-WR-CALNAME:Congressional Black Caucus Foundation
X-ORIGINAL-URL:https://www.cbcfinc.org
X-WR-CALDESC:Events for Congressional Black Caucus Foundation
REFRESH-INTERVAL;VALUE=DURATION:PT1H
X-Robots-Tag:noindex
X-PUBLISHED-TTL:PT1H
BEGIN:VTIMEZONE
TZID:America/New_York
BEGIN:DAYLIGHT
TZOFFSETFROM:-0500
TZOFFSETTO:-0400
TZNAME:EDT
DTSTART:20210314T070000
END:DAYLIGHT
BEGIN:STANDARD
TZOFFSETFROM:-0400
TZOFFSETTO:-0500
TZNAME:EST
DTSTART:20211107T060000
END:STANDARD
BEGIN:DAYLIGHT
TZOFFSETFROM:-0500
TZOFFSETTO:-0400
TZNAME:EDT
DTSTART:20220313T070000
END:DAYLIGHT
BEGIN:STANDARD
TZOFFSETFROM:-0400
TZOFFSETTO:-0500
TZNAME:EST
DTSTART:20221106T060000
END:STANDARD
BEGIN:DAYLIGHT
TZOFFSETFROM:-0500
TZOFFSETTO:-0400
TZNAME:EDT
DTSTART:20230312T070000
END:DAYLIGHT
BEGIN:STANDARD
TZOFFSETFROM:-0400
TZOFFSETTO:-0500
TZNAME:EST
DTSTART:20231105T060000
END:STANDARD
END:VTIMEZONE
BEGIN:VEVENT
DTSTART;TZID=America/New_York:20220428T160000
DTEND;TZID=America/New_York:20220428T183000
DTSTAMP:20260424T071404
CREATED:20220427T190313Z
LAST-MODIFIED:20220427T190553Z
UID:87030-1651161600-1651170600@www.cbcfinc.org
SUMMARY:Intern Bill ﻿Project Presentation & Closing Ceremony
DESCRIPTION:The Congressional Black Caucus Foundation cordially invites you to attend the Spring 2022 Intern Bill Project Presentation & Closing Ceremony. \nItinerary:\n4:00 PM to 5:00 PM – Intern Bill Presentation\n5:00 PM to 5:30 PM – Intermission\n5:30 PM to 6:30 PM – Intern Closing Ceremony \n4:00 PM – Intern Bill Project Presentation:\nAs part of their program requirement\, the Interns have worked in teams to draft examples of bills that would positively impact the global Black community. Come watch each team deliver their pitch before a panel of judges. The winning team will be announced at the end of the closing ceremony. \n5:30 PM- Intern Closing Ceremony:\nCome celebrate the accomplishments of our Spring cohort\, 31 emerging Black leaders as they conclude the Internship program and celebrate the winning team from the Intern Bill Project Presentation. \nRegister Here
URL:https://www.cbcfinc.org/event/intern-bill-project-presentation-closing-ceremony/
LOCATION:NJ
ATTACH;FMTTYPE=image/png:https://www.cbcfinc.org/wp-content/uploads/2022/04/Spring-2022-Intern-Closing-Ceremony-Email-Banner.png
END:VEVENT
END:VCALENDAR