BEGIN:VCALENDAR
VERSION:2.0
PRODID:-//Congressional Black Caucus Foundation - ECPv6.15.13//NONSGML v1.0//EN
CALSCALE:GREGORIAN
METHOD:PUBLISH
X-WR-CALNAME:Congressional Black Caucus Foundation
X-ORIGINAL-URL:https://www.cbcfinc.org
X-WR-CALDESC:Events for Congressional Black Caucus Foundation
REFRESH-INTERVAL;VALUE=DURATION:PT1H
X-Robots-Tag:noindex
X-PUBLISHED-TTL:PT1H
BEGIN:VTIMEZONE
TZID:America/New_York
BEGIN:DAYLIGHT
TZOFFSETFROM:-0500
TZOFFSETTO:-0400
TZNAME:EDT
DTSTART:20220313T070000
END:DAYLIGHT
BEGIN:STANDARD
TZOFFSETFROM:-0400
TZOFFSETTO:-0500
TZNAME:EST
DTSTART:20221106T060000
END:STANDARD
BEGIN:DAYLIGHT
TZOFFSETFROM:-0500
TZOFFSETTO:-0400
TZNAME:EDT
DTSTART:20230312T070000
END:DAYLIGHT
BEGIN:STANDARD
TZOFFSETFROM:-0400
TZOFFSETTO:-0500
TZNAME:EST
DTSTART:20231105T060000
END:STANDARD
BEGIN:DAYLIGHT
TZOFFSETFROM:-0500
TZOFFSETTO:-0400
TZNAME:EDT
DTSTART:20240310T070000
END:DAYLIGHT
BEGIN:STANDARD
TZOFFSETFROM:-0400
TZOFFSETTO:-0500
TZNAME:EST
DTSTART:20241103T060000
END:STANDARD
END:VTIMEZONE
BEGIN:VEVENT
DTSTART;TZID=America/New_York:20230828T170000
DTEND;TZID=America/New_York:20230828T183000
DTSTAMP:20260423T060628
CREATED:20230823T184717Z
LAST-MODIFIED:20230823T184717Z
UID:90273-1693242000-1693247400@www.cbcfinc.org
SUMMARY:CBCF Fellows Virtual Closing Presentation
DESCRIPTION:Please join us on Monday\, August 28\, 2023\, 5-6:30 PM ET to support the Congressional Black Caucus Foundation John R. Lewis NREI Fellows as they deliver their Capstone presentations. As part of their Fellowship\, NREI Fellows complete a final Capstone publication that must address a key policy issue within the NREI areas of priority (Criminal Justice\, Education\, Health Equity\, and Economic Opportunity). Tune in to hear about their outstanding research work\, as well as their Fellowship experience and accomplishments. \nRegister
URL:https://www.cbcfinc.org/event/cbcf-fellows-virtual-closing-presentation/
CATEGORIES:NREI
ATTACH;FMTTYPE=image/jpeg:https://www.cbcfinc.org/wp-content/uploads/2023/08/2023-Fellows-Closing-Presentation-Instagram-Post.jpg
END:VEVENT
BEGIN:VEVENT
DTSTART;TZID=America/New_York:20230828T183000
DTEND;TZID=America/New_York:20230828T183000
DTSTAMP:20260423T060628
CREATED:20230817T162323Z
LAST-MODIFIED:20230817T162323Z
UID:90172-1693247400-1693247400@www.cbcfinc.org
SUMMARY:Spring 2024 Internship Information Session
DESCRIPTION:This information session is for our in-person Spring 2024 internship program. This opportunity is available to current seniors or persons who have graduated with a bachelor’s degree within the two years and have not yet begun their graduate studies. \nPlease find more information and the application at https://www.cbcfinc.org/programs/internships/. \nRegister
URL:https://www.cbcfinc.org/event/spring-2024-internship-information-session-august-28/
CATEGORIES:Internships
ATTACH;FMTTYPE=image/jpeg:https://www.cbcfinc.org/wp-content/uploads/2023/08/Spring-2024-Info-Session.jpg
END:VEVENT
END:VCALENDAR