BEGIN:VCALENDAR
VERSION:2.0
PRODID:-//Congressional Black Caucus Foundation - ECPv6.15.13//NONSGML v1.0//EN
CALSCALE:GREGORIAN
METHOD:PUBLISH
X-WR-CALNAME:Congressional Black Caucus Foundation
X-ORIGINAL-URL:https://www.cbcfinc.org
X-WR-CALDESC:Events for Congressional Black Caucus Foundation
REFRESH-INTERVAL;VALUE=DURATION:PT1H
X-Robots-Tag:noindex
X-PUBLISHED-TTL:PT1H
BEGIN:VTIMEZONE
TZID:America/New_York
BEGIN:DAYLIGHT
TZOFFSETFROM:-0500
TZOFFSETTO:-0400
TZNAME:EDT
DTSTART:20200308T070000
END:DAYLIGHT
BEGIN:STANDARD
TZOFFSETFROM:-0400
TZOFFSETTO:-0500
TZNAME:EST
DTSTART:20201101T060000
END:STANDARD
BEGIN:DAYLIGHT
TZOFFSETFROM:-0500
TZOFFSETTO:-0400
TZNAME:EDT
DTSTART:20210314T070000
END:DAYLIGHT
BEGIN:STANDARD
TZOFFSETFROM:-0400
TZOFFSETTO:-0500
TZNAME:EST
DTSTART:20211107T060000
END:STANDARD
BEGIN:DAYLIGHT
TZOFFSETFROM:-0500
TZOFFSETTO:-0400
TZNAME:EDT
DTSTART:20220313T070000
END:DAYLIGHT
BEGIN:STANDARD
TZOFFSETFROM:-0400
TZOFFSETTO:-0500
TZNAME:EST
DTSTART:20221106T060000
END:STANDARD
END:VTIMEZONE
BEGIN:VEVENT
DTSTART;TZID=America/New_York:20211025T070000
DTEND;TZID=America/New_York:20211025T070000
DTSTAMP:20260423T090654
CREATED:20210923T175901Z
LAST-MODIFIED:20210923T180200Z
UID:86295-1635145200-1635145200@www.cbcfinc.org
SUMMARY:Scholarship Classic
DESCRIPTION:Lake Presidential Golf Club\n*Proof of COVID-19 vaccination and masks are required. \nNamed in honor of the late Representative Stephanie Tubbs Jones of Ohio and her spouse\, Mervyn L. Jones\, the Scholarship Classic is a powerful golf tournament and networking event\, back in-person for the first time since 2019\, that provides financial support to more than 300 students across the country who demonstrate exemplary leadership\, commitment to community service\, and academic talent. \nThe funds raised go toward the Congressional Black Caucus Foundation\, Inc.’s scholarships for deserving college and graduate students across the country. \nLearn more
URL:https://www.cbcfinc.org/event/scholarship-classic/
CATEGORIES:Annual
ATTACH;FMTTYPE=image/jpeg:https://www.cbcfinc.org/wp-content/uploads/2021/09/2021-Scholarship-Classic.jpg
END:VEVENT
END:VCALENDAR