BEGIN:VCALENDAR
VERSION:2.0
PRODID:-//Congressional Black Caucus Foundation - ECPv6.15.13//NONSGML v1.0//EN
CALSCALE:GREGORIAN
METHOD:PUBLISH
X-WR-CALNAME:Congressional Black Caucus Foundation
X-ORIGINAL-URL:https://www.cbcfinc.org
X-WR-CALDESC:Events for Congressional Black Caucus Foundation
REFRESH-INTERVAL;VALUE=DURATION:PT1H
X-Robots-Tag:noindex
X-PUBLISHED-TTL:PT1H
BEGIN:VTIMEZONE
TZID:America/Chicago
BEGIN:DAYLIGHT
TZOFFSETFROM:-0600
TZOFFSETTO:-0500
TZNAME:CDT
DTSTART:20220313T080000
END:DAYLIGHT
BEGIN:STANDARD
TZOFFSETFROM:-0500
TZOFFSETTO:-0600
TZNAME:CST
DTSTART:20221106T070000
END:STANDARD
BEGIN:DAYLIGHT
TZOFFSETFROM:-0600
TZOFFSETTO:-0500
TZNAME:CDT
DTSTART:20230312T080000
END:DAYLIGHT
BEGIN:STANDARD
TZOFFSETFROM:-0500
TZOFFSETTO:-0600
TZNAME:CST
DTSTART:20231105T070000
END:STANDARD
BEGIN:DAYLIGHT
TZOFFSETFROM:-0600
TZOFFSETTO:-0500
TZNAME:CDT
DTSTART:20240310T080000
END:DAYLIGHT
BEGIN:STANDARD
TZOFFSETFROM:-0500
TZOFFSETTO:-0600
TZNAME:CST
DTSTART:20241103T070000
END:STANDARD
BEGIN:DAYLIGHT
TZOFFSETFROM:-0600
TZOFFSETTO:-0500
TZNAME:CDT
DTSTART:20250309T080000
END:DAYLIGHT
BEGIN:STANDARD
TZOFFSETFROM:-0500
TZOFFSETTO:-0600
TZNAME:CST
DTSTART:20251102T070000
END:STANDARD
BEGIN:DAYLIGHT
TZOFFSETFROM:-0600
TZOFFSETTO:-0500
TZNAME:CDT
DTSTART:20260308T080000
END:DAYLIGHT
BEGIN:STANDARD
TZOFFSETFROM:-0500
TZOFFSETTO:-0600
TZNAME:CST
DTSTART:20261101T070000
END:STANDARD
END:VTIMEZONE
BEGIN:VTIMEZONE
TZID:America/New_York
BEGIN:DAYLIGHT
TZOFFSETFROM:-0500
TZOFFSETTO:-0400
TZNAME:EDT
DTSTART:20210314T070000
END:DAYLIGHT
BEGIN:STANDARD
TZOFFSETFROM:-0400
TZOFFSETTO:-0500
TZNAME:EST
DTSTART:20211107T060000
END:STANDARD
BEGIN:DAYLIGHT
TZOFFSETFROM:-0500
TZOFFSETTO:-0400
TZNAME:EDT
DTSTART:20220313T070000
END:DAYLIGHT
BEGIN:STANDARD
TZOFFSETFROM:-0400
TZOFFSETTO:-0500
TZNAME:EST
DTSTART:20221106T060000
END:STANDARD
BEGIN:DAYLIGHT
TZOFFSETFROM:-0500
TZOFFSETTO:-0400
TZNAME:EDT
DTSTART:20230312T070000
END:DAYLIGHT
BEGIN:STANDARD
TZOFFSETFROM:-0400
TZOFFSETTO:-0500
TZNAME:EST
DTSTART:20231105T060000
END:STANDARD
BEGIN:DAYLIGHT
TZOFFSETFROM:-0500
TZOFFSETTO:-0400
TZNAME:EDT
DTSTART:20240310T070000
END:DAYLIGHT
BEGIN:STANDARD
TZOFFSETFROM:-0400
TZOFFSETTO:-0500
TZNAME:EST
DTSTART:20241103T060000
END:STANDARD
BEGIN:DAYLIGHT
TZOFFSETFROM:-0500
TZOFFSETTO:-0400
TZNAME:EDT
DTSTART:20250309T070000
END:DAYLIGHT
BEGIN:STANDARD
TZOFFSETFROM:-0400
TZOFFSETTO:-0500
TZNAME:EST
DTSTART:20251102T060000
END:STANDARD
END:VTIMEZONE
BEGIN:VEVENT
DTSTART;TZID=America/Chicago:20251101T100000
DTEND;TZID=America/Chicago:20251101T143000
DTSTAMP:20260423T060946
CREATED:20250806T195711Z
LAST-MODIFIED:20251016T205154Z
UID:94834-1761991200-1762007400@www.cbcfinc.org
SUMMARY:National Racial Equity Initiative for Social Justice Summit
DESCRIPTION:Location: New Orleans\, Louisiana \nThis year marks the 5th anniversary of the National Racial Equity Initiative for Social Justice (NREI) and a milestone moment in the fight for racial equity. Join leaders\, changemakers\, and community advocates as we explore the intersection of criminal justice and education\, using New Orleans’ cultural history as a backdrop for meaningful discussion and action. \nHighlights include: \n\nA fireside chat with Rep. Troy Carter and Nicole Austin-Hillery\, CBCF President & CEO\nSessions on dismantling the school-to-prison pipeline and empowering local voices\nLocal art activations and opportunities to make your voice heard with the CBCF digital audience\n\nDon’t miss this opportunity to help shape a more just and equitable future. \nRSVP Today
URL:https://www.cbcfinc.org/event/national-racial-equity-initiative-for-social-justice-summit-2/
CATEGORIES:NREI
ATTACH;FMTTYPE=image/jpeg:https://www.cbcfinc.org/wp-content/uploads/2025/08/2025-NREI-Summit-New-Orleans.jpg
END:VEVENT
BEGIN:VEVENT
DTSTART;TZID=America/New_York:20240608T090000
DTEND;TZID=America/New_York:20240608T163000
DTSTAMP:20260423T060946
CREATED:20240422T191902Z
LAST-MODIFIED:20240528T212633Z
UID:91216-1717837200-1717864200@www.cbcfinc.org
SUMMARY:NREI Community Conversation Atlanta
DESCRIPTION:The NREI Community Conversation will include a fireside chat\, a voting and activism fair and panel discussions delving into the complexities of voting rights and representation\, examining historical struggles\, landmark legislation\, contemporary issues shaping the electoral landscape\, and the role of technology in enhancing democratic access. \nRegister
URL:https://www.cbcfinc.org/event/nrei-community-conversation-atlanta/
LOCATION:Loudermilk Conference Center\, 40 Courtland St NE\, Atlanta\, GA\, 30303\, United States
CATEGORIES:NREI
ATTACH;FMTTYPE=image/jpeg:https://www.cbcfinc.org/wp-content/uploads/2024/04/NREI-ATL.jpg
END:VEVENT
BEGIN:VEVENT
DTSTART;TZID=America/New_York:20240404T180000
DTEND;TZID=America/New_York:20240404T180000
DTSTAMP:20260423T060946
CREATED:20240325T192135Z
LAST-MODIFIED:20240328T175415Z
UID:91006-1712253600-1712253600@www.cbcfinc.org
SUMMARY:Fellowship Information Session
DESCRIPTION:Learn more about the CBCF Fellowship program application\, benefits\, and requirements for our Congressional\, National Racial Equity Initiative (NREI) John R. Lewis Social Justice\, and Transportation Equity Research fellowships. \nBring your questions and speak directly with Senior Director\, Ryan E. Tucker (Leadership Institute) and Senior Director\, Olajumoke Obayanju (NREI). \nRegister Today
URL:https://www.cbcfinc.org/event/fellowship-information-session-april-4-2024/
CATEGORIES:NREI
ATTACH;FMTTYPE=image/jpeg:https://www.cbcfinc.org/wp-content/uploads/2024/03/CBCF-Fellow-Info-Sessions.jpg
END:VEVENT
BEGIN:VEVENT
DTSTART;TZID=America/New_York:20240403T120000
DTEND;TZID=America/New_York:20240403T120000
DTSTAMP:20260423T060946
CREATED:20240325T192134Z
LAST-MODIFIED:20240328T175406Z
UID:91005-1712145600-1712145600@www.cbcfinc.org
SUMMARY:Fellowship Information Session
DESCRIPTION:Learn more about the CBCF Fellowship program application\, benefits\, and requirements for our Congressional\, National Racial Equity Initiative (NREI) John R. Lewis Social Justice\, and Transportation Equity Research fellowships. \nBring your questions and speak directly with Senior Director\, Ryan E. Tucker (Leadership Institute) and Senior Director\, Olajumoke Obayanju (NREI). \nRegister Today
URL:https://www.cbcfinc.org/event/fellowship-information-session-april-3-2024/
CATEGORIES:NREI
ATTACH;FMTTYPE=image/jpeg:https://www.cbcfinc.org/wp-content/uploads/2024/03/CBCF-Fellow-Info-Sessions.jpg
END:VEVENT
BEGIN:VEVENT
DTSTART;TZID=America/New_York:20231114T090000
DTEND;TZID=America/New_York:20231114T150000
DTSTAMP:20260423T060946
CREATED:20231101T150917Z
LAST-MODIFIED:20231107T191327Z
UID:90597-1699952400-1699974000@www.cbcfinc.org
SUMMARY:National Racial Equity Initiative for Social Justice Summit
DESCRIPTION:Location: MLK Jr. Memorial Library (901 G Street NW\, Washington\, DC) \nJoin the Congressional Black Caucus Foundation at the National Racial Equity Initiative for Social Justice (NREI) Summit on Tuesday\, November 14\, 2023! \nThe NREI Summit serves as a vital platform for advancing racial justice\, combating systemic injustice\, and increasing economic development opportunities for the Black community. \nRegister to attend virtually or in-person (space is limited) for three discussions around protecting the Black vote\, preserving African American history\, and the influence of corporations on the changing social justice landscape. \nRegister Today
URL:https://www.cbcfinc.org/event/national-racial-equity-initiative-for-social-justice-summit/
CATEGORIES:NREI
ATTACH;FMTTYPE=image/jpeg:https://www.cbcfinc.org/wp-content/uploads/2023/11/Save-The-Date-NREI-DC.jpg
END:VEVENT
BEGIN:VEVENT
DTSTART;TZID=America/New_York:20230828T170000
DTEND;TZID=America/New_York:20230828T183000
DTSTAMP:20260423T060946
CREATED:20230823T184717Z
LAST-MODIFIED:20230823T184717Z
UID:90273-1693242000-1693247400@www.cbcfinc.org
SUMMARY:CBCF Fellows Virtual Closing Presentation
DESCRIPTION:Please join us on Monday\, August 28\, 2023\, 5-6:30 PM ET to support the Congressional Black Caucus Foundation John R. Lewis NREI Fellows as they deliver their Capstone presentations. As part of their Fellowship\, NREI Fellows complete a final Capstone publication that must address a key policy issue within the NREI areas of priority (Criminal Justice\, Education\, Health Equity\, and Economic Opportunity). Tune in to hear about their outstanding research work\, as well as their Fellowship experience and accomplishments. \nRegister
URL:https://www.cbcfinc.org/event/cbcf-fellows-virtual-closing-presentation/
CATEGORIES:NREI
ATTACH;FMTTYPE=image/jpeg:https://www.cbcfinc.org/wp-content/uploads/2023/08/2023-Fellows-Closing-Presentation-Instagram-Post.jpg
END:VEVENT
BEGIN:VEVENT
DTSTART;TZID=America/Chicago:20230225T100000
DTEND;TZID=America/Chicago:20230225T160000
DTSTAMP:20260423T060946
CREATED:20230126T183254Z
LAST-MODIFIED:20230126T183254Z
UID:88252-1677319200-1677340800@www.cbcfinc.org
SUMMARY:NREI Community Conversation Tulsa
DESCRIPTION:Join CBCF for a community-level dialogue between legislators\, policymakers\, activists\, and community members to discuss the past\, present\, and future of Tulsa—the heart of Black Oklahoma. \nOn Saturday\, February 25\, 2023\, from 10 am – 4 pm CT we will host our third Community Conversation entitled: Building Power in Black Tulsa: What It Means and How We Get There at Booker T. Washington High School. \nThis in-person event will include: \n\nan opening panel discussion on the state of Black Tulsa\na fireside chat with Nicole Austin-Hillery\, President and CEO of the Congressional Black Caucus Foundation\nworkshops on achieving economic security\, community safety\, and reparations.\nclosing community conversation on how the Congressional Black Caucus Foundation can continue to work with and support the Tulsa community.\nand more!\n\nRegister now at cbcfinc.org/tulsa
URL:https://www.cbcfinc.org/event/nrei-community-conversation-tulsa/
CATEGORIES:NREI
ATTACH;FMTTYPE=image/jpeg:https://www.cbcfinc.org/wp-content/uploads/2023/01/Save-The-Date-NREI-Tulsa-4.jpg
END:VEVENT
BEGIN:VEVENT
DTSTART;TZID=America/New_York:20220423T090000
DTEND;TZID=America/New_York:20220423T150000
DTSTAMP:20260423T060946
CREATED:20220419T172121Z
LAST-MODIFIED:20220420T143029Z
UID:86963-1650704400-1650726000@www.cbcfinc.org
SUMMARY:NREI's Detroit Community Conversation
DESCRIPTION:Join NREI\, CBCF\, and the Detroit community for an in-person conversation on understanding the Detroit public safety historical landscape\, and to answer the question of where do we go from here on Making Safety Public? Please note\, that all attendees must be fully vaccinated with a booster shot and complete the vaccination verification process in advance of the event. Masks are required when not actively eating and drinking. \nhttps://www.cbcfinc.org/wp-content/uploads/2022/04/NREI-Community-Conversations-Detroit-Social_Special-Guests.mp4\n  \n 
URL:https://www.cbcfinc.org/event/nreis-detroit-community-conversation/
CATEGORIES:NREI
ATTACH;FMTTYPE=image/jpeg:https://www.cbcfinc.org/wp-content/uploads/2022/04/NREI-Community-Conversations-Detroit-Social_Special-Guests.jpg
END:VEVENT
END:VCALENDAR