BEGIN:VCALENDAR
VERSION:2.0
PRODID:-//Congressional Black Caucus Foundation - ECPv6.15.13//NONSGML v1.0//EN
CALSCALE:GREGORIAN
METHOD:PUBLISH
X-ORIGINAL-URL:https://www.cbcfinc.org
X-WR-CALDESC:Events for Congressional Black Caucus Foundation
REFRESH-INTERVAL;VALUE=DURATION:PT1H
X-Robots-Tag:noindex
X-PUBLISHED-TTL:PT1H
BEGIN:VTIMEZONE
TZID:America/New_York
BEGIN:DAYLIGHT
TZOFFSETFROM:-0500
TZOFFSETTO:-0400
TZNAME:EDT
DTSTART:20250309T070000
END:DAYLIGHT
BEGIN:STANDARD
TZOFFSETFROM:-0400
TZOFFSETTO:-0500
TZNAME:EST
DTSTART:20251102T060000
END:STANDARD
BEGIN:DAYLIGHT
TZOFFSETFROM:-0500
TZOFFSETTO:-0400
TZNAME:EDT
DTSTART:20260308T070000
END:DAYLIGHT
BEGIN:STANDARD
TZOFFSETFROM:-0400
TZOFFSETTO:-0500
TZNAME:EST
DTSTART:20261101T060000
END:STANDARD
BEGIN:DAYLIGHT
TZOFFSETFROM:-0500
TZOFFSETTO:-0400
TZNAME:EDT
DTSTART:20270314T070000
END:DAYLIGHT
BEGIN:STANDARD
TZOFFSETFROM:-0400
TZOFFSETTO:-0500
TZNAME:EST
DTSTART:20271107T060000
END:STANDARD
END:VTIMEZONE
BEGIN:VEVENT
DTSTART;TZID=America/New_York:20260516T100000
DTEND;TZID=America/New_York:20260516T150000
DTSTAMP:20260423T191905
CREATED:20260423T164118Z
LAST-MODIFIED:20260423T164118Z
UID:96576-1778925600-1778943600@www.cbcfinc.org
SUMMARY:Health Equity Summit: New Jersey
DESCRIPTION:Join the Congressional Black Caucus Foundation (CBCF) at the Health Equity Summit: Health Equity in the Age of AI and Emergent Tech sponsored by Johnson & Johnson. \nSaturday\, May 16\, 2026\n10:00 AM – 3:00 PM ET\nDonald M. Payne Sr. School of Technology\n498-544 W Market St\, Newark\, NJ 07107 \nAs artificial intelligence and emerging technologies rapidly transform healthcare\, we are at a pivotal moment: one that will define whether innovation advances equity or deepens disparities. \nTogether\, we’ll examine: \n\nEthical AI design and accountability\nData justice and bias in healthcare systems\nPolicy solutions to protect and expand access\nCommunity-centered approaches to innovation\nIn addition to thought-provoking sessions\, attendees will have access to our Health Fair\, featuring organizations offering resources\, information\, and opportunities to engage directly with leaders in health and wellness.\n\nRegister Today
URL:https://www.cbcfinc.org/event/health-equity-summit-new-jersey/
LOCATION:Donald M. Payne Sr. School of Technology\, 498-544 W Market St.\, Newark\, NJ\, 07107\, United States
CATEGORIES:Summit
ATTACH;FMTTYPE=image/jpeg:https://www.cbcfinc.org/wp-content/uploads/2026/04/Health-Equity-Summit-New-Jersey.jpg
END:VEVENT
BEGIN:VEVENT
DTSTART;TZID=America/New_York:20260520T183000
DTEND;TZID=America/New_York:20260520T183000
DTSTAMP:20260423T191905
CREATED:20260403T175426Z
LAST-MODIFIED:20260403T175426Z
UID:96445-1779301800-1779301800@www.cbcfinc.org
SUMMARY:Fall 2026 Internship Virtual Information Session #2
DESCRIPTION:Learn more about the Congressional Black Caucus Foundation’s Fall 2026 internship opportunities including our Walmart Emerging Leaders\, State Farm Communications\, and Pathways to C-Suite programs. \nApplicants must be a recent graduate (within the last 24 months) by the program start date. \nTo find more information and the application\, please visit our internships page. \nRegister Today
URL:https://www.cbcfinc.org/event/fall-2026-internship-virtual-information-session-2/
CATEGORIES:Internships
ATTACH;FMTTYPE=image/jpeg:https://www.cbcfinc.org/wp-content/uploads/2026/04/Intern-Info-Session-2.jpg
END:VEVENT
BEGIN:VEVENT
DTSTART;TZID=America/New_York:20260609T183000
DTEND;TZID=America/New_York:20260609T183000
DTSTAMP:20260423T191905
CREATED:20260403T175544Z
LAST-MODIFIED:20260403T175544Z
UID:96446-1781029800-1781029800@www.cbcfinc.org
SUMMARY:Fall 2026 Internship Virtual Information Session #3
DESCRIPTION:Learn more about the Congressional Black Caucus Foundation’s Fall 2026 internship opportunities including our Walmart Emerging Leaders\, State Farm Communications\, and Pathways to C-Suite programs. \nApplicants must be a recent graduate (within the last 24 months) by the program start date. \nTo find more information and the application\, please visit our internships page. \nRegister Today
URL:https://www.cbcfinc.org/event/fall-2026-internship-virtual-information-session-3/
CATEGORIES:Internships
ATTACH;FMTTYPE=image/jpeg:https://www.cbcfinc.org/wp-content/uploads/2026/04/Intern-Info-Session-3.jpg
END:VEVENT
END:VCALENDAR