BEGIN:VCALENDAR
VERSION:2.0
PRODID:-//Congressional Black Caucus Foundation - ECPv6.15.13//NONSGML v1.0//EN
CALSCALE:GREGORIAN
METHOD:PUBLISH
X-ORIGINAL-URL:https://www.cbcfinc.org
X-WR-CALDESC:Events for Congressional Black Caucus Foundation
REFRESH-INTERVAL;VALUE=DURATION:PT1H
X-Robots-Tag:noindex
X-PUBLISHED-TTL:PT1H
BEGIN:VTIMEZONE
TZID:America/New_York
BEGIN:DAYLIGHT
TZOFFSETFROM:-0500
TZOFFSETTO:-0400
TZNAME:EDT
DTSTART:20220313T070000
END:DAYLIGHT
BEGIN:STANDARD
TZOFFSETFROM:-0400
TZOFFSETTO:-0500
TZNAME:EST
DTSTART:20221106T060000
END:STANDARD
BEGIN:DAYLIGHT
TZOFFSETFROM:-0500
TZOFFSETTO:-0400
TZNAME:EDT
DTSTART:20230312T070000
END:DAYLIGHT
BEGIN:STANDARD
TZOFFSETFROM:-0400
TZOFFSETTO:-0500
TZNAME:EST
DTSTART:20231105T060000
END:STANDARD
BEGIN:DAYLIGHT
TZOFFSETFROM:-0500
TZOFFSETTO:-0400
TZNAME:EDT
DTSTART:20240310T070000
END:DAYLIGHT
BEGIN:STANDARD
TZOFFSETFROM:-0400
TZOFFSETTO:-0500
TZNAME:EST
DTSTART:20241103T060000
END:STANDARD
END:VTIMEZONE
BEGIN:VEVENT
DTSTART;TZID=America/New_York:20230501T183000
DTEND;TZID=America/New_York:20230501T193000
DTSTAMP:20260423T103651
CREATED:20230403T184407Z
LAST-MODIFIED:20230404T173208Z
UID:88965-1682965800-1682969400@www.cbcfinc.org
SUMMARY:Fall 2023 Internship Virtual Info Session
DESCRIPTION:Learn more about our Fall 2023 Internship program and speak directly with our Leadership Institute team about the application process. \nJoin us throughout May and June 2023 for a virtual information session about our Fall 2023 Internships. Learn more about our internship options\, application process\, and speak directly with the Leadership Institute team. \nRegister: https://cbcf.zoom.us/meeting/register/tZ0odOCpqDwjHN3RwsFynk8I1QgVeJO4dy3s
URL:https://www.cbcfinc.org/event/fall-2023-internship-virtual-info-session-may-1/
CATEGORIES:Internships
ATTACH;FMTTYPE=image/jpeg:https://www.cbcfinc.org/wp-content/uploads/2023/04/Info-Session-Web-Image_Fall-2023.jpg
END:VEVENT
BEGIN:VEVENT
DTSTART;TZID=America/New_York:20230515T183000
DTEND;TZID=America/New_York:20230515T193000
DTSTAMP:20260423T103651
CREATED:20230403T184418Z
LAST-MODIFIED:20230404T173202Z
UID:88966-1684175400-1684179000@www.cbcfinc.org
SUMMARY:Fall 2023 Internship Virtual Info Session
DESCRIPTION:Learn more about our Fall 2023 Internship program and speak directly with our Leadership Institute team about the application process. \nJoin us throughout May and June 2023 for a virtual information session about our Fall 2023 Internships. Learn more about our internship options\, application process\, and speak directly with the Leadership Institute team. \nRegister: https://cbcf.zoom.us/meeting/register/tZ0odOCpqDwjHN3RwsFynk8I1QgVeJO4dy3s
URL:https://www.cbcfinc.org/event/fall-2023-internship-virtual-info-session-may-15/
CATEGORIES:Internships
ATTACH;FMTTYPE=image/jpeg:https://www.cbcfinc.org/wp-content/uploads/2023/04/Info-Session-Web-Image_Fall-2023.jpg
END:VEVENT
BEGIN:VEVENT
DTSTART;VALUE=DATE:20230523
DTEND;VALUE=DATE:20230524
DTSTAMP:20260423T103651
CREATED:20230310T190502Z
LAST-MODIFIED:20230310T190502Z
UID:88425-1684800000-1684886399@www.cbcfinc.org
SUMMARY:Policy for the People Health Equity Summit
DESCRIPTION:Washington\, D.C. \nThe Health Equity Summit provides attendees the opportunity to engage in in-depth discussion with subject-matter experts along with business leaders and members of the Congressional Black Caucus. Subjects are wide-reaching policy and social issues impacting the lives of Black Americans. \nRegistration details to be announced.
URL:https://www.cbcfinc.org/event/policy-for-the-people-health-equity-summit/
CATEGORIES:﻿Policy for The People
ATTACH;FMTTYPE=image/png:https://www.cbcfinc.org/wp-content/uploads/2023/03/Policy-for-the-People.png
END:VEVENT
BEGIN:VEVENT
DTSTART;TZID=America/New_York:20230530T183000
DTEND;TZID=America/New_York:20230530T193000
DTSTAMP:20260423T103651
CREATED:20230403T184432Z
LAST-MODIFIED:20230424T203637Z
UID:88967-1685471400-1685475000@www.cbcfinc.org
SUMMARY:Fall 2023 Internship Virtual Info Session
DESCRIPTION:Learn more about our Fall 2023 Internship program and speak directly with our Leadership Institute team about the application process. \nJoin us throughout May and June 2023 for a virtual information session about our Fall 2023 Internships. Learn more about our internship options\, application process\, and speak directly with the Leadership Institute team. \nRegister: https://cbcf.zoom.us/meeting/register/tZ0odOCpqDwjHN3RwsFynk8I1QgVeJO4dy3s
URL:https://www.cbcfinc.org/event/fall-2023-internship-virtual-info-session-may-30/
CATEGORIES:Internships
ATTACH;FMTTYPE=image/jpeg:https://www.cbcfinc.org/wp-content/uploads/2023/04/Info-Session-Web-Image_Fall-2023.jpg
END:VEVENT
END:VCALENDAR