BEGIN:VCALENDAR
VERSION:2.0
PRODID:-//Congressional Black Caucus Foundation - ECPv6.15.13//NONSGML v1.0//EN
CALSCALE:GREGORIAN
METHOD:PUBLISH
X-WR-CALNAME:Congressional Black Caucus Foundation
X-ORIGINAL-URL:https://www.cbcfinc.org
X-WR-CALDESC:Events for Congressional Black Caucus Foundation
REFRESH-INTERVAL;VALUE=DURATION:PT1H
X-Robots-Tag:noindex
X-PUBLISHED-TTL:PT1H
BEGIN:VTIMEZONE
TZID:America/New_York
BEGIN:DAYLIGHT
TZOFFSETFROM:-0500
TZOFFSETTO:-0400
TZNAME:EDT
DTSTART:20220313T070000
END:DAYLIGHT
BEGIN:STANDARD
TZOFFSETFROM:-0400
TZOFFSETTO:-0500
TZNAME:EST
DTSTART:20221106T060000
END:STANDARD
BEGIN:DAYLIGHT
TZOFFSETFROM:-0500
TZOFFSETTO:-0400
TZNAME:EDT
DTSTART:20230312T070000
END:DAYLIGHT
BEGIN:STANDARD
TZOFFSETFROM:-0400
TZOFFSETTO:-0500
TZNAME:EST
DTSTART:20231105T060000
END:STANDARD
BEGIN:DAYLIGHT
TZOFFSETFROM:-0500
TZOFFSETTO:-0400
TZNAME:EDT
DTSTART:20240310T070000
END:DAYLIGHT
BEGIN:STANDARD
TZOFFSETFROM:-0400
TZOFFSETTO:-0500
TZNAME:EST
DTSTART:20241103T060000
END:STANDARD
END:VTIMEZONE
BEGIN:VEVENT
DTSTART;TZID=America/New_York:20230706T183000
DTEND;TZID=America/New_York:20230706T183000
DTSTAMP:20260423T073005
CREATED:20230706T141559Z
LAST-MODIFIED:20230706T141916Z
UID:89780-1688668200-1688668200@www.cbcfinc.org
SUMMARY:Webinar | The End of Race-Conscious Admissions in Higher Education: What Does This Mean for Black Students?
DESCRIPTION:On June 29th\, the U.S. Supreme Court rejected affirmative action bringing an end to race-conscious admissions in colleges and universities. \nIn this webinar\, the Center for Policy Analysis and Research seeks to amplify the voices of Black leaders at the vanguard of movements to advance educational access for minority communities.  Panelists include: \n\nLodriguez V. Murray\, Senior Vice President\, Public Policy & Government Affairs\, UNCF\nDr. Kimberly Griffin\, Dean of Education\, University of Maryland\nDr. Ivory Toldson\, Director of Education Innovation and Research\, NAACP\nDanielle E. Davis\, Staff Counsel\, National Education Association\n\nThis convening is an opportunity to discuss the SCOTUS decision\, identify implications for Black students\, explore the potential impact on HBCUs and other predominantly Black institutions\, and define a responsive course of action. \nRegister here
URL:https://www.cbcfinc.org/event/webinar-the-end-of-race-conscious-admissions-in-higher-education-what-does-this-mean-for-black-students/
CATEGORIES:CPAR
ATTACH;FMTTYPE=image/jpeg:https://www.cbcfinc.org/wp-content/uploads/2023/07/1080x1080-Webinar-Promo-CBCF-Internal.jpg
END:VEVENT
END:VCALENDAR