BEGIN:VCALENDAR
VERSION:2.0
PRODID:-//Congressional Black Caucus Foundation - ECPv6.15.13//NONSGML v1.0//EN
CALSCALE:GREGORIAN
METHOD:PUBLISH
X-ORIGINAL-URL:https://www.cbcfinc.org
X-WR-CALDESC:Events for Congressional Black Caucus Foundation
REFRESH-INTERVAL;VALUE=DURATION:PT1H
X-Robots-Tag:noindex
X-PUBLISHED-TTL:PT1H
BEGIN:VTIMEZONE
TZID:America/New_York
BEGIN:DAYLIGHT
TZOFFSETFROM:-0500
TZOFFSETTO:-0400
TZNAME:EDT
DTSTART:20220313T070000
END:DAYLIGHT
BEGIN:STANDARD
TZOFFSETFROM:-0400
TZOFFSETTO:-0500
TZNAME:EST
DTSTART:20221106T060000
END:STANDARD
BEGIN:DAYLIGHT
TZOFFSETFROM:-0500
TZOFFSETTO:-0400
TZNAME:EDT
DTSTART:20230312T070000
END:DAYLIGHT
BEGIN:STANDARD
TZOFFSETFROM:-0400
TZOFFSETTO:-0500
TZNAME:EST
DTSTART:20231105T060000
END:STANDARD
BEGIN:DAYLIGHT
TZOFFSETFROM:-0500
TZOFFSETTO:-0400
TZNAME:EDT
DTSTART:20240310T070000
END:DAYLIGHT
BEGIN:STANDARD
TZOFFSETFROM:-0400
TZOFFSETTO:-0500
TZNAME:EST
DTSTART:20241103T060000
END:STANDARD
END:VTIMEZONE
BEGIN:VEVENT
DTSTART;VALUE=DATE:20230920
DTEND;VALUE=DATE:20230925
DTSTAMP:20260423T044321
CREATED:20230310T190719Z
LAST-MODIFIED:20230310T190719Z
UID:88427-1695168000-1695599999@www.cbcfinc.org
SUMMARY:Annual Legislative Conference
DESCRIPTION:Washington\, D.C. \nJoin us at the Walter E. Washington Convention Center for five days of premium programming and signature events including the Prayer Breakfast\, National Town Hall\, Phoenix Awards\, and Black Party. \nRegistration details to be announced. \nFor sponsorship opportunities\, please email the Resource Development team at rd@cbcfinc.org
URL:https://www.cbcfinc.org/event/annual-legislative-conference/
CATEGORIES:Annual
ATTACH;FMTTYPE=image/jpeg:https://www.cbcfinc.org/wp-content/uploads/2023/03/ALC.jpg
END:VEVENT
BEGIN:VEVENT
DTSTART;TZID=America/New_York:20230925T183000
DTEND;TZID=America/New_York:20230925T183000
DTSTAMP:20260423T044321
CREATED:20230817T162326Z
LAST-MODIFIED:20230817T162443Z
UID:90173-1695666600-1695666600@www.cbcfinc.org
SUMMARY:Spring 2024 Internship Information Session
DESCRIPTION:This information session is for our in-person Spring 2024 internship program. This opportunity is available to current seniors or persons who have graduated with a bachelor’s degree within the two years and have not yet begun their graduate studies. \nPlease find more information and the application at https://www.cbcfinc.org/programs/internships/. \nRegister
URL:https://www.cbcfinc.org/event/spring-2024-internship-information-session-september-25/
CATEGORIES:Internships
ATTACH;FMTTYPE=image/jpeg:https://www.cbcfinc.org/wp-content/uploads/2023/08/Spring-2024-Info-Session.jpg
END:VEVENT
END:VCALENDAR